BEGIN:VCALENDAR
VERSION:2.0
PRODID:-//ChamberMaster//Event Calendar 2.0//EN
METHOD:PUBLISH
X-PUBLISHED-TTL:P1H
REFRESH-INTERVAL:P1H
CALSCALE:GREGORIAN
BEGIN:VTIMEZONE
TZID:America/Phoenix
BEGIN:DAYLIGHT
DTSTART:20070311T020000
TZOFFSETFROM:-0700
TZOFFSETTO:-0700
TZNAME:(UTC-07:00) Arizona
END:DAYLIGHT
BEGIN:STANDARD
DTSTART:20071104T020000
TZOFFSETFROM:-0700
TZOFFSETTO:-0700
TZNAME:(UTC-07:00) Arizona
END:STANDARD
END:VTIMEZONE
BEGIN:VEVENT
DTSTART;TZID=America/Phoenix:20260514T073000
DTEND;TZID=America/Phoenix:20260514T093000
X-MICROSOFT-CDO-ALLDAYEVENT:FALSE
SUMMARY:PHX East Valley Partnership Annual Meeting
DESCRIPTION:AI and the Workplace: Contemporary Issues and Opportunities.\n\nOrganizations across the nation are facing a pivotal moment as they take the leap from piloting AI into integrating this powerful tool into the workplace.  This shift requires vision\, innovation and judgement.  It also means conqering issues and seizing opportunities.  Among them: selling AI as a partner rather than a replacement in the workplace and moving employees from experimentation to daily use to improve productivity and outcomes.
X-ALT-DESC;FMTTYPE=text/html:AI and the Workplace: Contemporary Issues and Opportunities.\n\nOrganizations across the nation are facing a pivotal moment as they take the leap from piloting AI into integrating this powerful tool into the workplace.  This shift requires vision\, innovation and judgement.  It also means conqering issues and seizing opportunities.  Among them: selling AI as a partner rather than a replacement in the workplace and moving employees from experimentation to daily use to improve productivity and outcomes.
LOCATION:1520 S. Longmore Mesa AZ 85202
UID:e.1719.1437528
SEQUENCE:3
DTSTAMP:20260424T032034Z
URL:https://members.phxeastvalley.org/events/Details/phx-east-valley-partnership-annual-meeting-1701472?sourceTypeId=Hub
END:VEVENT
END:VCALENDAR
